BEGIN:VCALENDAR
VERSION:2.0
PRODID:-//eventon.com NONSGML v1.0//EN
BEGIN:VEVENT
UID:69eb6d9e5bf0c
DTSTAMP:20260424T151822
DTSTART:20260507T220000Z
DTEND:20260508T215000Z
LOCATION:
SUMMARY:Funghi\,  passione e precauzioni - Niccolò Oppicelli
DESCRIPTION: Funghi\,  passione e precauzioni - Niccolò Oppicelli
END:VEVENT
END:VCALENDAR