BEGIN:VCALENDAR
VERSION:2.0
PRODID:-//eventon.com NONSGML v1.0//EN
BEGIN:VEVENT
UID:69eb6e1da7fb9
DTSTAMP:20260424T152029
DTSTART:20260515T220000Z
DTEND:20260516T215000Z
LOCATION:
SUMMARY:Trekking al Parco delle Fucine (Casto - BS)
DESCRIPTION: Trekking al Parco delle Fucine (Casto - BS)
END:VEVENT
END:VCALENDAR