BEGIN:VCALENDAR
VERSION:2.0
PRODID:-//eventon.com NONSGML v1.0//EN
BEGIN:VEVENT
UID:69e739d033838
DTSTAMP:20260421T104816
DTSTART:20250401T190000Z
DTEND:20250401T215000Z
LOCATION:Sede CAI Piacenza Stradone Farnese\,  39\,  29121 Piacenza PC
SUMMARY:CORSO DI ALPINISMO GIOVANILE 2025
DESCRIPTION: Età 8-17 anni Presentazione 1 aprile 2025 ore 21 Informazioni ed iscrizioni 1-4-8-11 aprile ore 21-22 Mail: alpinismogiovanile@caipiacenza.it Il Corso di Alpinismo Giovanile è destinato ai ragazzi in età comprese tra 8 e 17 anni che vogliono sperimentare tanti aspetti della frequentazione e della conoscenza della montagna iniziando proprio dalle[..]
END:VEVENT
END:VCALENDAR