BEGIN:VCALENDAR
VERSION:2.0
PRODID:-//eventon.com NONSGML v1.0//EN
BEGIN:VEVENT
UID:69e5e1fc31992
DTSTAMP:20260420T102116
DTSTART:20250920T053000Z
DTEND:20250920T140000Z
LOCATION:Leroy Merlin 
SUMMARY:Lazzaro Ponticelli: antichi borghi e personaggi storici. Salita al monte La Penna
DESCRIPTION: Il percorso si sviluppa nella frazione di Groppo Ducale comune di Bettola. Partendo dalla chiesa di San Biaggio presso Groppo Ducale si segue la direzione di Costa di Groppo Ducale attraversando località Forlini. Da Costa si segue il sentiero CAI 043 per raggiungere la vetta Monte la Penna. Sosta presso[..]
END:VEVENT
END:VCALENDAR