BEGIN:VCALENDAR
VERSION:2.0
PRODID:-//eventon.com NONSGML v1.0//EN
BEGIN:VEVENT
UID:69e739c6c757f
DTSTAMP:20260421T104806
DTSTART:20241022T190000Z
DTEND:20241022T215000Z
LOCATION:Sede CAI Piacenza Stradone Farnese\,  39\,  29121 Piacenza PC
SUMMARY:IN MONTAGNA USA...LA TESTA! PREPARAZIONE DELL’ESCURSIONE
DESCRIPTION: Tre serate per un escursionismo consapevole a cura del Club Alpino Italiano - Sezione di Piacenza. Presentatore e moderatore delle serate la giornalista Nicoletta Marenghi di TELELIBERTA’. PREPARAZIONE DELL’ESCURSIONE Raccolta delle informazioni\,  confronto siti e App\,  meteo\,  chiamata di soccorso Durante le serate si parlerà anche del comportamento corretto da[..]
END:VEVENT
END:VCALENDAR